BEGIN:VCALENDAR
VERSION:2.0
PRODID:-//ChamberMaster//Event Calendar 2.0//EN
METHOD:PUBLISH
X-PUBLISHED-TTL:P3D
REFRESH-INTERVAL:P3D
CALSCALE:GREGORIAN
BEGIN:VEVENT
DTSTART:20260327T230000Z
DTEND:20260328T040000Z
X-MICROSOFT-CDO-ALLDAYEVENT:FALSE
SUMMARY:¡Viva Sabor! 2026 SOLD OUT!
DESCRIPTION:A Night of Flavor\, Fun\, and Connection! \n\nGet ready for an evening that delights your senses! Taste  unique food from around the metro\, all while mingling with a dynamic community of professionals.\n\nViva Sabor is more than food and drink   it's a celebration of culture\, community\, and connection. Enjoy live music\, and a lively atmosphere that will make the night unforgettable.\n\nAs a Chamber fundraiser\, every ticket helps support programs that empower and uplift the Latino community\, creating opportunities for growth\, collaboration\, and success.\n\nDon't miss out   come for the flavors\, stay for the energy\, and leave inspired!
X-ALT-DESC;FMTTYPE=text/html:<p><strong data-end="210" data-start="150">&nbsp\;A Night of Flavor\, Fun\, and Connection!&nbsp\;</strong></p>\n\n<p data-end="401" data-start="214">Get ready for an evening that <strong data-end="268" data-start="244">delights your senses</strong>! Taste <strong data-end="332" data-start="286">&nbsp\;unique&nbsp\;food from around the metro</strong>\, all while mingling with a <strong data-end="398" data-start="360">dynamic community of professionals</strong>.</p>\n\n<p data-end="623" data-start="403">Viva Sabor is more than food and drink &mdash\; it&rsquo\;s a celebration of <strong data-end="508" data-start="470">culture\, community\, and connection</strong>. Enjoy <strong data-end="581" data-start="516">live music\, and a lively atmosphere</strong> that will make the night unforgettable.</p>\n\n<p data-end="800" data-start="625">As a Chamber fundraiser\, every ticket helps <strong data-end="734" data-start="669">support programs that empower and uplift the Latino community</strong>\, creating opportunities for growth\, collaboration\, and success.</p>\n\n<p data-end="883" data-start="802">Don&rsquo\;t miss out &mdash\; come for the flavors\, stay for the energy\, and leave inspired!</p>\n\n<p><br />\n<br />\n&nbsp\;</p>\n\n<p><br />\n<span style="font-family:arial\;">&nbsp\;</span></p>\n
LOCATION:Devon Park 2801 NE 50th Street Oklahoma City\, Oklahoma
UID:e.1498.5399
SEQUENCE:3
DTSTAMP:20260420T043637Z
URL:https://business.okchispanicchamber.org/events/details/viva-sabor-2026-5399
END:VEVENT

END:VCALENDAR
