BEGIN:VCALENDAR
VERSION:2.0
PRODID:-//ChamberMaster//Event Calendar 2.0//EN
METHOD:PUBLISH
X-PUBLISHED-TTL:P3D
REFRESH-INTERVAL:P3D
CALSCALE:GREGORIAN
BEGIN:VEVENT
DTSTART:20210904T150000Z
DTEND:20210904T220000Z
X-MICROSOFT-CDO-ALLDAYEVENT:FALSE
SUMMARY:Viva Oklahoma Hispanic Chamber Expo and Career Fair 2021
DESCRIPTION:Be a player in Oklahoma's Hispanic Community by taking part in the largest and most important Hispanic Business Expo and Career Fair in Oklahoma. Join national\, regional\, and local companies plus non-profit\, government\, cultural\, media\, and faith-based organizations\, as well as many more while interacting with the fastest growing Hispanic Market in the country.\n\nExperience the positive impact that the 2021 Hispanic Business & Consumer Expo/ Career Fair will give your company:\n\n\n	Business Exposure\n	Business Development Opportunities\n	Business Networking\n	Bilingual candidates for employment\n	Targeted advertising in Spanish as well as in English\n\n\nWith more than 17\,000 attendees in the past two years\, the Hispanic Business & Consumer Expo/Career Fair is recognized as the largest Business Expo in Oklahoma. Be one of the more than 200 Exhibitors displaying products and services in Oklahoma's Hispanic Community. \n\nWe will have the career fair sectioned off within the expo area\, what a better place to hire Bilingual employees than the expo?\n\n\n\nThis year we will have these special areas:\n\n\n	Children's area\n	New Cars\n	Quincea a/Bridal area\n	Health area\n\n\nPlus on stage entertainment all day with giveaways every hour!\n\n\n\nThis will be a family fun event that is free to the public!\n\nGet you booth or sponsorship today!
X-ALT-DESC;FMTTYPE=text/html:<p style="padding-bottom: 0px\; margin: 1em 10px\; padding-left: 0px\; padding-right: 0px\; padding-top: 0px">Be a player in Oklahoma&#39\;s Hispanic Community by taking part in the largest and most important Hispanic Business Expo and Career Fair in Oklahoma. Join national\, regional\, and local companies plus non-profit\, government\, cultural\, media\, and faith-based organizations\, as well as many more while interacting with the fastest growing Hispanic Market in the country.</p>\n\n<p style="padding-bottom: 0px\; margin: 1em 10px\; padding-left: 0px\; padding-right: 0px\; padding-top: 0px">Experience the positive impact that the 2021&nbsp\;Hispanic Business &amp\; Consumer Expo/ Career Fair will give your company:</p>\n\n<ul style="padding-bottom: 0px\; margin: 1em 25px\; padding-left: 0px\; padding-right: 0px\; padding-top: 0px">\n	<li style="padding-bottom: 0px\; margin: 0px\; padding-left: 0px\; padding-right: 0px\; padding-top: 0px">Business Exposure</li>\n	<li style="padding-bottom: 0px\; margin: 0px\; padding-left: 0px\; padding-right: 0px\; padding-top: 0px">Business Development Opportunities</li>\n	<li style="padding-bottom: 0px\; margin: 0px\; padding-left: 0px\; padding-right: 0px\; padding-top: 0px">Business Networking</li>\n	<li style="padding-bottom: 0px\; margin: 0px\; padding-left: 0px\; padding-right: 0px\; padding-top: 0px">Bilingual candidates for employment</li>\n	<li style="padding-bottom: 0px\; margin: 0px\; padding-left: 0px\; padding-right: 0px\; padding-top: 0px">Targeted advertising in Spanish as well as in English</li>\n</ul>\n\n<p style="padding-bottom: 0px\; margin: 1em 10px\; padding-left: 0px\; padding-right: 0px\; padding-top: 0px">With more than 17\,000 attendees in the past two years\, the Hispanic Business &amp\; Consumer Expo/Career Fair is recognized as the largest Business Expo in Oklahoma. Be one of the more than 200 Exhibitors displaying products and services in Oklahoma&#39\;s Hispanic Community.&nbsp\;<br />\nWe will have the career fair sectioned off within the expo area\, what a better place to hire Bilingual employees than the expo?<br />\n<br />\nThis year we will have these special areas:</p>\n\n<ul>\n	<li style="padding: 0px\; margin: 1em 10px\;">Children&#39\;s area</li>\n	<li style="padding: 0px\; margin: 1em 10px\;">New Cars</li>\n	<li style="padding: 0px\; margin: 1em 10px\;">Quincea&ntilde\;a/Bridal area</li>\n	<li style="padding: 0px\; margin: 1em 10px\;">Health area</li>\n</ul>\n\n<div style="padding: 0px\; margin: 1em 10px\;">Plus on stage entertainment all day with giveaways every hour!<br />\n<br />\nThis will be a family fun event that is free to the public!<br />\nGet you booth or sponsorship today!</div>\n
LOCATION:Downtown OKC Convention Center
UID:e.1498.300
SEQUENCE:3
DTSTAMP:20260425T121053Z
URL:https://business.okchispanicchamber.org/events/details/viva-oklahoma-hispanic-chamber-expo-and-career-fair-2021-300
END:VEVENT

END:VCALENDAR
