BEGIN:VCALENDAR
VERSION:2.0
PRODID:-//ChamberMaster//Event Calendar 2.0//EN
METHOD:PUBLISH
X-PUBLISHED-TTL:P3D
REFRESH-INTERVAL:P3D
CALSCALE:GREGORIAN
BEGIN:VEVENT
DTSTART;VALUE=DATE:20251029
DTEND;VALUE=DATE:20251030
TRANSP:TRANSPARENT
X-MICROSOFT-CDO-ALLDAYEVENT:TRUE
SUMMARY:Vaccine Clinic
DESCRIPTION:The Hispanic Chamber of Commerce is partnering with Chris's Drug Store to host a vaccine clinic for the community. This event is a great opportunity to stay protected and get information about the vaccines available.
X-ALT-DESC;FMTTYPE=text/html:The Hispanic Chamber of Commerce is partnering with <strong data-end="193" data-start="171">Chris&rsquo\;s Drug Store</strong> to host a<strong data-end="227" data-start="204">&nbsp\;vaccine clinic</strong> for the community. This event is a great opportunity to stay protected and get information about the vaccines available.
LOCATION:3321 S Western Ave Oklahoma City\, OK 73109
UID:e.1498.5423
SEQUENCE:3
DTSTAMP:20260422T141951Z
URL:https://business.okchispanicchamber.org/events/details/vaccine-clinic-5423
END:VEVENT

END:VCALENDAR
