BEGIN:VCALENDAR
VERSION:2.0
PRODID:-//ChamberMaster//Event Calendar 2.0//EN
METHOD:PUBLISH
X-PUBLISHED-TTL:P3D
REFRESH-INTERVAL:P3D
CALSCALE:GREGORIAN
BEGIN:VEVENT
DTSTART:20211013T230000Z
DTEND:20211014T010000Z
X-MICROSOFT-CDO-ALLDAYEVENT:FALSE
SUMMARY:TECNICAS IMPRO PARA LIDERAZGO
DESCRIPTION:Aprende a Desarrollar y Fortalecer competencias espec ficas que te permitan afrontar los retos diarios que implica el Liderazgo. Construye y gestiona v nculos con tus equipos de trabajo\, y alcanza as  los objetivos trazados.\n\n\n\nLuis Zafra\, nos acompa ar  con esta interesante Conferencia - Taller.  l es originario de Colombia\, cuenta con m s de 27 a os de experiencia\, trabajando con diferentes corporaciones internacionales.
X-ALT-DESC;FMTTYPE=text/html:Aprende a Desarrollar y Fortalecer competencias espec&iacute\;ficas que te permitan afrontar los retos diarios que implica el Liderazgo. Construye y gestiona v&iacute\;nculos con tus equipos de trabajo\, y alcanza as&iacute\; los objetivos trazados.<br />\n<br />\nLuis Zafra\, nos acompa&ntilde\;ar&aacute\; con esta interesante Conferencia - Taller. &Eacute\;l es originario de Colombia\, cuenta con m&aacute\;s de 27 a&ntilde\;os de experiencia\, trabajando con diferentes corporaciones internacionales.<br />\n&nbsp\;
LOCATION:3321 S. Western Ave. Oklahoma City\, OK 73109
UID:e.1498.4566
SEQUENCE:3
DTSTAMP:20260425T115544Z
URL:https://business.okchispanicchamber.org/events/details/tecnicas-impro-para-liderazgo-4566
END:VEVENT

END:VCALENDAR
