BEGIN:VCALENDAR
VERSION:2.0
PRODID:-//ChamberMaster//Event Calendar 2.0//EN
METHOD:PUBLISH
X-PUBLISHED-TTL:P3D
REFRESH-INTERVAL:P3D
CALSCALE:GREGORIAN
BEGIN:VEVENT
DTSTART:20261016T230000Z
DTEND:20261017T040000Z
X-MICROSOFT-CDO-ALLDAYEVENT:FALSE
SUMMARY:One Taste at a Time!
DESCRIPTION:The Greater Oklahoma City Hispanic Chamber of Commerce is proud to a present:\n\nONE TASTE AT A TIME\n\n\nCome and enjoy the best Tacos\, Whiskeys\, Wine and Beers\, plus great entertainment on stage!\n\nThis event will be an opportunity for businesses and professionals to network within a diverse crowd while enjoying the culinary diversity of Oklahoma.
X-ALT-DESC;FMTTYPE=text/html:<span style="color: rgb(51\, 51\, 51)\; font-family: sans-serif\, Arial\, Verdana\, &quot\;Trebuchet MS&quot\;\; font-size: 14px\;"><span style="font-family: arial\;">The Greater Oklahoma City Hispanic Chamber of Commerce is proud to a present:</span></span>\n\n<p style="color: rgb(51\, 51\, 51)\; font-family: sans-serif\, Arial\, Verdana\, &quot\;Trebuchet MS&quot\;\; font-size: 13px\; text-align: center\;"><span style="font-size:18px\;"><span style="color: rgb(0\, 0\, 255)\;"><font face="arial"><b><u>ONE TASTE AT A&nbsp\;TIME</u></b></font></span></span></p>\n<br style="color: rgb(51\, 51\, 51)\; font-family: sans-serif\, Arial\, Verdana\, &quot\;Trebuchet MS&quot\;\; font-size: 13px\;" />\n<span style="color: rgb(51\, 51\, 51)\; font-family: sans-serif\, Arial\, Verdana\, &quot\;Trebuchet MS&quot\;\; font-size: 14px\;"><span style="font-family: arial\;">Come and enjoy the best Tacos\, Whiskeys\, Wine and Beers\, plus great entertainment on stage!<br />\nThis event will be an opportunity for businesses and professionals to network within a diverse crowd while enjoying the culinary diversity of Oklahoma.</span></span>
LOCATION:
UID:e.1498.5452
SEQUENCE:3
DTSTAMP:20260422T174617Z
URL:https://business.okchispanicchamber.org/events/details/one-taste-at-a-time-5452
END:VEVENT

END:VCALENDAR
