BEGIN:VCALENDAR
VERSION:2.0
PRODID:-//ChamberMaster//Event Calendar 2.0//EN
METHOD:PUBLISH
X-PUBLISHED-TTL:P3D
REFRESH-INTERVAL:P3D
CALSCALE:GREGORIAN
BEGIN:VEVENT
DTSTART:20210923T153000Z
DTEND:20210923T163000Z
X-MICROSOFT-CDO-ALLDAYEVENT:FALSE
SUMMARY:New Members Orientation
DESCRIPTION:New Member Orientation Meeting.
X-ALT-DESC;FMTTYPE=text/html:<p>\n	New Member Orientation Meeting.</p>\n
LOCATION:Greater Oklahoma City Hispanic Chamber of Commerce Office
UID:e.1498.250
SEQUENCE:3
DTSTAMP:20260425T140209Z
URL:https://business.okchispanicchamber.org/events/details/new-members-orientation-09-23-2021-250
END:VEVENT

END:VCALENDAR
