BEGIN:VCALENDAR
VERSION:2.0
PRODID:-//ChamberMaster//Event Calendar 2.0//EN
METHOD:PUBLISH
X-PUBLISHED-TTL:P3D
REFRESH-INTERVAL:P3D
CALSCALE:GREGORIAN
BEGIN:VEVENT
DTSTART:20211211T000000Z
DTEND:20211211T050000Z
X-MICROSOFT-CDO-ALLDAYEVENT:FALSE
SUMMARY:Gala - Registration closed
DESCRIPTION:Come and join us for the 2021 Gala\n\n6:00 pm -7:00 Please check in at the registration table. The reception will be in the corridor area you will be able to view and bid on the silent auction items (Cash bar)\n\n\n\n7:00pm Doors open\, if you purchased a table you may proceed to your table\, if you purchased individual tickets you may sit in the open seating area\n\n\n\n7:30 Dinner served\n\n8:00 Program begins \n\n8:30 Silent auction closes\n\n9:00 Salsa lessons and band begins\n\n11:30 Adjourn\n\n\n\n\n\nThis will be a fun night we have just booked an orchestra from Dallas Texas that will play salsa music and other genres \n\n\n\nOur Keynote Speaker will be Sean Kouplen former Oklahoma Secretary of Commerce and President/CEO of Regent bank\n\n\n\nThis is a black tie (Recommended event)\n\n\n\nIf you would like to book a room there at the Embassy\, we have a special rate just click here:\n\n\n\nhttps://www.hilton.com/en/book/reservation/rooms/?ctyhocn=OKCONES&arrivalDate=2021-12-09&departureDate=2021-12-11&room1NumAdults=1&cid=OM%2CWW%2CHILTONLINK%2CEN%2CDirectLink\n\n\n\n\n\nFor tickets or a table click the registration button (We are almost full)\n\n\n\n\n\nIf you have any Questions please call us at 405 616-5031
X-ALT-DESC;FMTTYPE=text/html:<br />\n<br />\n<strong><span style="border:none windowtext 1.0pt\;padding:0in\;"><span style="color:black\;"><span style="font-family:garamond\,serif\;"><span style="font-size:14.0pt\;">&nbsp\;Come and join us for the 2021 Gala</span></span></span></span></strong><br />\n<span style="color: rgb(34\, 34\, 34)\; font-family: Arial\, Helvetica\, sans-serif\; font-size: 20px\; background-color: rgb(255\, 255\, 255)\;">6:00 pm -7:00 Please check in at the registration table. The reception will be in the corridor area you will be able to view and bid on the silent auction items (Cash bar)</span><br style="color: rgb(34\, 34\, 34)\; font-family: Arial\, Helvetica\, sans-serif\; font-size: 20px\; background-color: rgb(255\, 255\, 255)\;" />\n<br style="color: rgb(34\, 34\, 34)\; font-family: Arial\, Helvetica\, sans-serif\; font-size: 20px\; background-color: rgb(255\, 255\, 255)\;" />\n<span style="color: rgb(34\, 34\, 34)\; font-family: Arial\, Helvetica\, sans-serif\; font-size: 20px\; background-color: rgb(255\, 255\, 255)\;">7:00pm Doors open\, if you purchased a table you may proceed to your table\, if you purchased individual tickets you may sit in the open seating area</span><br style="color: rgb(34\, 34\, 34)\; font-family: Arial\, Helvetica\, sans-serif\; font-size: 20px\; background-color: rgb(255\, 255\, 255)\;" />\n<br style="color: rgb(34\, 34\, 34)\; font-family: Arial\, Helvetica\, sans-serif\; font-size: 20px\; background-color: rgb(255\, 255\, 255)\;" />\n<span style="color: rgb(34\, 34\, 34)\; font-family: Arial\, Helvetica\, sans-serif\; font-size: 20px\; background-color: rgb(255\, 255\, 255)\;">7:30 Dinner served</span><br style="color: rgb(34\, 34\, 34)\; font-family: Arial\, Helvetica\, sans-serif\; font-size: 20px\; background-color: rgb(255\, 255\, 255)\;" />\n<span style="color: rgb(34\, 34\, 34)\; font-family: Arial\, Helvetica\, sans-serif\; font-size: 20px\; background-color: rgb(255\, 255\, 255)\;">8:00 Program begins&nbsp\;</span><br style="color: rgb(34\, 34\, 34)\; font-family: Arial\, Helvetica\, sans-serif\; font-size: 20px\; background-color: rgb(255\, 255\, 255)\;" />\n<span style="color: rgb(34\, 34\, 34)\; font-family: Arial\, Helvetica\, sans-serif\; font-size: 20px\; background-color: rgb(255\, 255\, 255)\;">8:30 Silent auction closes</span><br style="color: rgb(34\, 34\, 34)\; font-family: Arial\, Helvetica\, sans-serif\; font-size: 20px\; background-color: rgb(255\, 255\, 255)\;" />\n<span style="color: rgb(34\, 34\, 34)\; font-family: Arial\, Helvetica\, sans-serif\; font-size: 20px\; background-color: rgb(255\, 255\, 255)\;">9:00 Salsa lessons and band begins</span><br style="color: rgb(34\, 34\, 34)\; font-family: Arial\, Helvetica\, sans-serif\; font-size: 20px\; background-color: rgb(255\, 255\, 255)\;" />\n<span style="color: rgb(34\, 34\, 34)\; font-family: Arial\, Helvetica\, sans-serif\; font-size: 20px\; background-color: rgb(255\, 255\, 255)\;">11:30 Adjourn</span><br style="color: rgb(34\, 34\, 34)\; font-family: Arial\, Helvetica\, sans-serif\; font-size: 20px\; background-color: rgb(255\, 255\, 255)\;" />\n<br style="color: rgb(34\, 34\, 34)\; font-family: Arial\, Helvetica\, sans-serif\; font-size: 20px\; background-color: rgb(255\, 255\, 255)\;" />\n<br style="color: rgb(34\, 34\, 34)\; font-family: Arial\, Helvetica\, sans-serif\; font-size: 20px\; background-color: rgb(255\, 255\, 255)\;" />\n<span style="color: rgb(34\, 34\, 34)\; font-family: Arial\, Helvetica\, sans-serif\; font-size: 20px\; background-color: rgb(255\, 255\, 255)\;">This will be a fun night we have just booked an orchestra from Dallas Texas that will play salsa music and other genres&nbsp\;</span><br style="color: rgb(34\, 34\, 34)\; font-family: Arial\, Helvetica\, sans-serif\; font-size: 20px\; background-color: rgb(255\, 255\, 255)\;" />\n<br style="color: rgb(34\, 34\, 34)\; font-family: Arial\, Helvetica\, sans-serif\; font-size: 20px\; background-color: rgb(255\, 255\, 255)\;" />\n<span style="color: rgb(34\, 34\, 34)\; font-family: Arial\, Helvetica\, sans-serif\; font-size: 20px\; background-color: rgb(255\, 255\, 255)\;">Our Keynote Speaker will be Sean Kouplen former Oklahoma Secretary of Commerce and President/CEO of Regent bank</span><br style="color: rgb(34\, 34\, 34)\; font-family: Arial\, Helvetica\, sans-serif\; font-size: 20px\; background-color: rgb(255\, 255\, 255)\;" />\n<br style="color: rgb(34\, 34\, 34)\; font-family: Arial\, Helvetica\, sans-serif\; font-size: 20px\; background-color: rgb(255\, 255\, 255)\;" />\n<span style="color: rgb(34\, 34\, 34)\; font-family: Arial\, Helvetica\, sans-serif\; font-size: 20px\; background-color: rgb(255\, 255\, 255)\;">This is a black tie (Recommended event)</span><br style="color: rgb(34\, 34\, 34)\; font-family: Arial\, Helvetica\, sans-serif\; font-size: 20px\; background-color: rgb(255\, 255\, 255)\;" />\n<br style="color: rgb(34\, 34\, 34)\; font-family: Arial\, Helvetica\, sans-serif\; font-size: 20px\; background-color: rgb(255\, 255\, 255)\;" />\n<span style="color: rgb(34\, 34\, 34)\; font-family: Arial\, Helvetica\, sans-serif\; font-size: 20px\; background-color: rgb(255\, 255\, 255)\;">If you would like to book a room there at the Embassy\, we have a special rate just click here:</span><br style="color: rgb(34\, 34\, 34)\; font-family: Arial\, Helvetica\, sans-serif\; font-size: 20px\; background-color: rgb(255\, 255\, 255)\;" />\n<br style="color: rgb(34\, 34\, 34)\; font-family: Arial\, Helvetica\, sans-serif\; font-size: 20px\; background-color: rgb(255\, 255\, 255)\;" />\n<a data-saferedirecturl="https://www.google.com/url?q=https://www.hilton.com/en/book/reservation/rooms/?ctyhocn%3DOKCONES%26arrivalDate%3D2021-12-09%26departureDate%3D2021-12-11%26room1NumAdults%3D1%26cid%3DOM%252CWW%252CHILTONLINK%252CEN%252CDirectLink&amp\;source=gmail&amp\;ust=1638394061533000&amp\;usg=AOvVaw3lW4B799RmYIt1xUpfDjcK" href="https://www.hilton.com/en/book/reservation/rooms/?ctyhocn=OKCONES&amp\;arrivalDate=2021-12-09&amp\;departureDate=2021-12-11&amp\;room1NumAdults=1&amp\;cid=OM%2CWW%2CHILTONLINK%2CEN%2CDirectLink" style="color: rgb(17\, 85\, 204)\; font-family: Arial\, Helvetica\, sans-serif\; font-size: 20px\; background-color: rgb(255\, 255\, 255)\;" target="_blank">https://www.hilton.com/en/<wbr />book/reservation/rooms/?<wbr />ctyhocn=OKCONES&amp\;arrivalDate=<wbr />2021-12-09&amp\;departureDate=2021-<wbr />12-11&amp\;room1NumAdults=1&amp\;cid=OM%<wbr />2CWW%2CHILTONLINK%2CEN%<wbr />2CDirectLink</a><br style="color: rgb(34\, 34\, 34)\; font-family: Arial\, Helvetica\, sans-serif\; font-size: 20px\; background-color: rgb(255\, 255\, 255)\;" />\n<br style="color: rgb(34\, 34\, 34)\; font-family: Arial\, Helvetica\, sans-serif\; font-size: 20px\; background-color: rgb(255\, 255\, 255)\;" />\n<br style="color: rgb(34\, 34\, 34)\; font-family: Arial\, Helvetica\, sans-serif\; font-size: 20px\; background-color: rgb(255\, 255\, 255)\;" />\n<span style="color: rgb(34\, 34\, 34)\; font-family: Arial\, Helvetica\, sans-serif\; font-size: 20px\; background-color: rgb(255\, 255\, 255)\;">For tickets or a table click the registration button (We are almost full)</span><br style="color: rgb(34\, 34\, 34)\; font-family: Arial\, Helvetica\, sans-serif\; font-size: 20px\; background-color: rgb(255\, 255\, 255)\;" />\n<br style="color: rgb(34\, 34\, 34)\; font-family: Arial\, Helvetica\, sans-serif\; font-size: 20px\; background-color: rgb(255\, 255\, 255)\;" />\n<br style="color: rgb(34\, 34\, 34)\; font-family: Arial\, Helvetica\, sans-serif\; font-size: 20px\; background-color: rgb(255\, 255\, 255)\;" />\n<span style="color: rgb(34\, 34\, 34)\; font-family: Arial\, Helvetica\, sans-serif\; font-size: 20px\; background-color: rgb(255\, 255\, 255)\;">If you have any Questions please call us at 405 616-5031</span>
LOCATION:Embassy Suites NW Expressway
UID:e.1498.4365
SEQUENCE:3
DTSTAMP:20260423T080625Z
URL:https://business.okchispanicchamber.org/events/details/gala-registration-closed-4365
END:VEVENT

END:VCALENDAR
