BEGIN:VCALENDAR
VERSION:2.0
PRODID:-//ChamberMaster//Event Calendar 2.0//EN
METHOD:PUBLISH
X-PUBLISHED-TTL:P3D
REFRESH-INTERVAL:P3D
CALSCALE:GREGORIAN
BEGIN:VEVENT
DTSTART:20220226T140000Z
DTEND:20220228T220000Z
X-MICROSOFT-CDO-ALLDAYEVENT:FALSE
SUMMARY:Food Certification Manager
DESCRIPTION:Food Certification Manager
X-ALT-DESC;FMTTYPE=text/html:Food Certification Manager
LOCATION:3321 S Western Ave. Oklahoma city\, OK 73109
UID:e.1498.4571
SEQUENCE:3
DTSTAMP:20260423T065145Z
URL:https://business.okchispanicchamber.org/events/details/food-certification-manager-4571
END:VEVENT

END:VCALENDAR
