BEGIN:VCALENDAR
VERSION:2.0
PRODID:-//ChamberMaster//Event Calendar 2.0//EN
METHOD:PUBLISH
X-PUBLISHED-TTL:P3D
REFRESH-INTERVAL:P3D
CALSCALE:GREGORIAN
BEGIN:VEVENT
DTSTART:20260501T210000Z
DTEND:20260502T020000Z
X-MICROSOFT-CDO-ALLDAYEVENT:FALSE
SUMMARY:Cinco de Mayo Fest
DESCRIPTION:Join us for the Cinco de Mayo Festival!\n\nIt's a holiday celebrated in parts of Mexico and the United States in honor of a military victory in 1862 over the French forces of Napoleon III.\n\nCome enjoy a series of music and dance performances\, together with the most delicious food the Oklahoma City Hispanic community has to offer.\n\nBe part of this fun community event\, gathering national\, regional\, and local companies\, plus non-profit\, government\, cultural\, media\, and faith-based organizations\, as well as many more\, while interacting with the fastest growing Hispanic Market in the country.\n\nGive your business exposure in a fun way through the Cinco de Mayo Festival!
X-ALT-DESC;FMTTYPE=text/html:<span style="font-size:12px\;"><span style="font-family:arial\;"><span style="background:white\;"><span style="color:#333333\;">Join us for the Cinco de Mayo Festival!</span></span><br />\n<span style="background:white\;"><span style="color:#333333\;">It&rsquo\;s a </span></span><span style="background:white\;"><span style="color:#202124\;">holiday celebrated in parts of Mexico and the United States&nbsp\;</span></span>in honor of a military victory in 1862 over the French forces of Napoleon III.<br />\n<span style="background:white\;"><span style="color:#333333\;">Come enjoy a series of music and dance performances\, together with the most delicious food</span></span> the Oklahoma City Hispanic community has to offer.<br />\n<span style="background:white\;"><span style="color:#333333\;">Be part of this fun community event\, gathering&nbsp\;</span></span>national\, regional\, and local companies\, plus non-profit\, government\, cultural\, media\, and faith-based organizations\, as well as many more\, while interacting with the fastest growing Hispanic Market in the country.<br />\n<span style="background:white\;"><span style="color:#333333\;">Give your business exposure in a fun way through the Cinco de Mayo Festival!&nbsp\;</span></span></span></span><br />\n&nbsp\;
LOCATION:Scissortail Park 300 SW 7th St\, Oklahoma City\, OK 73109
UID:e.1498.5395
SEQUENCE:3
DTSTAMP:20260420T031657Z
URL:https://business.okchispanicchamber.org/events/details/cinco-de-mayo-fest-5395
END:VEVENT

END:VCALENDAR
