BEGIN:VCALENDAR
VERSION:2.0
PRODID:-//ChamberMaster//Event Calendar 2.0//EN
METHOD:PUBLISH
X-PUBLISHED-TTL:P3D
REFRESH-INTERVAL:P3D
CALSCALE:GREGORIAN
BEGIN:VEVENT
DTSTART:20260909T130000Z
DTEND:20260909T140000Z
X-MICROSOFT-CDO-ALLDAYEVENT:FALSE
SUMMARY:Cafe Con....(Coffee With)
DESCRIPTION:Caf  Con...\n\nIs a series of informal meetings with CEO's and Community leaders that help give you insight of how to grow and keep your business successful.    \n\n\n\nThis session will be with Cultivate\n\nSo come and have coffee with your favorite CEO! (Cultivate provide the breakfast)
X-ALT-DESC;FMTTYPE=text/html:Caf&eacute\; Con...<br />\nIs a series of informal meetings with CEO&#39\;s and Community leaders that help give you insight of how to grow and keep your business successful.&nbsp\;&nbsp\;&nbsp\;&nbsp\;<br />\n<br />\nThis session will be with Cultivate<br />\nSo come and have coffee with your favorite CEO! (Cultivate provide the breakfast)<br />\n&nbsp\;
LOCATION:Hispanic Chamber Conference Center 3321 S Western OKC OK 73109
UID:e.1498.5443
SEQUENCE:3
DTSTAMP:20260422T161535Z
URL:https://business.okchispanicchamber.org/events/details/cafe-con-coffee-with-5443
END:VEVENT

END:VCALENDAR
