BEGIN:VCALENDAR
VERSION:2.0
PRODID:-//ChamberMaster//Event Calendar 2.0//EN
METHOD:PUBLISH
X-PUBLISHED-TTL:P3D
REFRESH-INTERVAL:P3D
CALSCALE:GREGORIAN
BEGIN:VEVENT
DTSTART:20260306T000000Z
DTEND:20260306T020000Z
X-MICROSOFT-CDO-ALLDAYEVENT:FALSE
SUMMARY:Business Fundamentals - Word
DESCRIPTION:Boost your efficiency with Microsoft Word. Learn essential skills for creating professional documents\, managing reports\, and making your workflow more organized.
X-ALT-DESC;FMTTYPE=text/html:Boost your efficiency with Microsoft Word. Learn essential skills for creating professional documents\, managing reports\, and making your workflow more organized.&nbsp\;
LOCATION:Greater OKC Hispanic Chamber 3312 S. Western Ave Oklahoma City\, OK
UID:e.1498.5455
SEQUENCE:3
DTSTAMP:20260420T043643Z
URL:https://business.okchispanicchamber.org/events/details/business-fundamentals-word-5455
END:VEVENT

END:VCALENDAR
