BEGIN:VCALENDAR
VERSION:2.0
PRODID:-//ChamberMaster//Event Calendar 2.0//EN
METHOD:PUBLISH
X-PUBLISHED-TTL:P3D
REFRESH-INTERVAL:P3D
CALSCALE:GREGORIAN
BEGIN:VEVENT
DTSTART:20260220T000000Z
DTEND:20260220T020000Z
X-MICROSOFT-CDO-ALLDAYEVENT:FALSE
SUMMARY:Business Fundamentals-Sales and Negotation
DESCRIPTION:Discover the most effective strategies to engage with customers and learn how to enhance their experience. This workshop will teach you how to effectively sell to your existing customers and help you expand to new ones.
X-ALT-DESC;FMTTYPE=text/html:&nbsp\; Discover the most effective strategies to engage with customers and learn how to enhance their experience. This workshop will teach you how to effectively sell to your existing customers and help you expand to new ones.&nbsp\;
LOCATION:Greater OKC Hispanic Chamber of Commerce 3321 S. Western Ave Oklahoma City\, OK
UID:e.1498.5454
SEQUENCE:3
DTSTAMP:20260420T064414Z
URL:https://business.okchispanicchamber.org/events/details/business-fundamentals-sales-and-negotation-5454
END:VEVENT

END:VCALENDAR
