BEGIN:VCALENDAR
VERSION:2.0
PRODID:-//ChamberMaster//Event Calendar 2.0//EN
METHOD:PUBLISH
X-PUBLISHED-TTL:P3D
REFRESH-INTERVAL:P3D
CALSCALE:GREGORIAN
BEGIN:VEVENT
DTSTART:20260319T230000Z
DTEND:20260320T010000Z
X-MICROSOFT-CDO-ALLDAYEVENT:FALSE
SUMMARY:Business Fundamentals - Microsoft PowerPoint Workshop
DESCRIPTION:Join us in exploring Microsoft PowerPoint and learning how to create engaging slides and deliver presentations with clarity and professionalism. This workshop will teach you the best techniques for informing your business idea.
X-ALT-DESC;FMTTYPE=text/html:Join us in exploring Microsoft PowerPoint and learning how to create engaging slides and deliver presentations with clarity and professionalism. This workshop will teach you the best techniques for informing your business idea.&nbsp\;
LOCATION:Greater OKC Hispanic Chamber of Commerce 3321 S. Western Ave Oklahoma City\, OK
UID:e.1498.5456
SEQUENCE:3
DTSTAMP:20260420T043514Z
URL:https://business.okchispanicchamber.org/events/details/business-fundamentals-microsoft-powerpoint-workshop-5456
END:VEVENT

END:VCALENDAR
