BEGIN:VCALENDAR
VERSION:2.0
PRODID:-//ChamberMaster//Event Calendar 2.0//EN
METHOD:PUBLISH
X-PUBLISHED-TTL:P3D
REFRESH-INTERVAL:P3D
CALSCALE:GREGORIAN
BEGIN:VEVENT
DTSTART:20260430T230000Z
DTEND:20260501T010000Z
X-MICROSOFT-CDO-ALLDAYEVENT:FALSE
SUMMARY:Business Fundamentals - Linkedin
DESCRIPTION:Learn how to use LinkedIn as a tool to enhance your personal branding\, job searching\, or business development. We will also teach you how to add your micro credentials to your profile.
X-ALT-DESC;FMTTYPE=text/html:Learn how to use LinkedIn as a tool to enhance your personal branding\, job searching\, or business development. We will also teach you how to add your micro credentials to your profile.&nbsp\;
LOCATION:Greater OKC Hispanic Chamber of Commerce 3321 S. Western Ave Oklahoma City\, OK
UID:e.1498.5459
SEQUENCE:3
DTSTAMP:20260420T025022Z
URL:https://business.okchispanicchamber.org/events/details/business-fundamentals-linkedin-5459
END:VEVENT

END:VCALENDAR
