BEGIN:VCALENDAR
VERSION:2.0
PRODID:-//ChamberMaster//Event Calendar 2.0//EN
METHOD:PUBLISH
X-PUBLISHED-TTL:P3D
REFRESH-INTERVAL:P3D
CALSCALE:GREGORIAN
BEGIN:VEVENT
DTSTART:20260416T230000Z
DTEND:20260417T010000Z
X-MICROSOFT-CDO-ALLDAYEVENT:FALSE
SUMMARY:Business Fundamentals- Excel 2
DESCRIPTION:Join us as we share the most valuable tips and tricks for using Microsoft Excel to enhance your business. Learn how to use this tool to make running your business a whole lot smoother.
X-ALT-DESC;FMTTYPE=text/html:Join us as we share the most valuable tips and tricks for using Microsoft Excel to enhance your business. Learn how to use this tool to make running your business a whole lot smoother.&nbsp\;
LOCATION:Greater OKC Hispanic Chamber of Commerce 3321 S. Western Ave Oklahoma City\, OK
UID:e.1498.5458
SEQUENCE:3
DTSTAMP:20260420T024217Z
URL:https://business.okchispanicchamber.org/events/details/business-fundamentals-excel-2-5458
END:VEVENT

END:VCALENDAR
