BEGIN:VCALENDAR
VERSION:2.0
PRODID:-//ChamberMaster//Event Calendar 2.0//EN
METHOD:PUBLISH
X-PUBLISHED-TTL:P3D
REFRESH-INTERVAL:P3D
CALSCALE:GREGORIAN
BEGIN:VEVENT
DTSTART:20260206T000000Z
DTEND:20260206T020000Z
X-MICROSOFT-CDO-ALLDAYEVENT:FALSE
SUMMARY:Business Fundamentals - AI for Business
DESCRIPTION:Discover how artificial intelligence can help streamline operations\, improve customer service\, and drive smarter decision-making. This hands-on workshop is designed for business owners and professionals looking to explore practical AI tools and strategies that can be implemented immediately no tech background required!
X-ALT-DESC;FMTTYPE=text/html:Discover how artificial intelligence can help streamline operations\, improve customer service\, and drive smarter decision-making. This hands-on workshop is designed for business owners and professionals looking to explore practical AI tools and strategies that can be implemented immediately&mdash\;no tech background required!
LOCATION:Greater OKC Hispanic Chamber of Commerce 3321 S. Western Ave Oklahoma City\, OK
UID:e.1498.5453
SEQUENCE:3
DTSTAMP:20260420T064553Z
URL:https://business.okchispanicchamber.org/events/details/business-fundamentals-ai-for-business-5453
END:VEVENT

END:VCALENDAR
