BEGIN:VCALENDAR
VERSION:2.0
PRODID:-//ChamberMaster//Event Calendar 2.0//EN
METHOD:PUBLISH
X-PUBLISHED-TTL:P3D
REFRESH-INTERVAL:P3D
CALSCALE:GREGORIAN
BEGIN:VEVENT
DTSTART:20260122T233000Z
DTEND:20260123T010000Z
X-MICROSOFT-CDO-ALLDAYEVENT:FALSE
SUMMARY:Business After Hours Network
DESCRIPTION:Monthly Networking Event for Hispanic Chamber Members at Slate at Founders Tower. \n\n5900 Mosteller Dr\, Oklahoma City\, OK 73112
X-ALT-DESC;FMTTYPE=text/html:Monthly Networking Event for Hispanic Chamber Members at Slate at Founders Tower.&nbsp\;<br />\n5900 Mosteller Dr\, Oklahoma City\, OK 73112
LOCATION:
UID:e.1498.5426
SEQUENCE:3
DTSTAMP:20260422T091345Z
URL:https://business.okchispanicchamber.org/events/details/business-after-hours-network-5426
END:VEVENT

END:VCALENDAR
