BEGIN:VCALENDAR
VERSION:2.0
PRODID:-//ChamberMaster//Event Calendar 2.0//EN
METHOD:PUBLISH
X-PUBLISHED-TTL:P3D
REFRESH-INTERVAL:P3D
CALSCALE:GREGORIAN
BEGIN:VEVENT
DTSTART:20251023T223000Z
DTEND:20251024T000000Z
X-MICROSOFT-CDO-ALLDAYEVENT:FALSE
SUMMARY:Business After Hours Network
DESCRIPTION:Monthly Networking Event for Hispanic Chamber Members
X-ALT-DESC;FMTTYPE=text/html:Monthly Networking Event for Hispanic Chamber Members
LOCATION:Simmons Bank 3131 S Shields Blvd Oklahoma City\, OK 73129
UID:e.1498.5358
SEQUENCE:3
DTSTAMP:20260422T141824Z
URL:https://business.okchispanicchamber.org/events/details/business-after-hours-network-5358
END:VEVENT

END:VCALENDAR
