BEGIN:VCALENDAR
VERSION:2.0
PRODID:-//ChamberMaster//Event Calendar 2.0//EN
METHOD:PUBLISH
X-PUBLISHED-TTL:P3D
REFRESH-INTERVAL:P3D
CALSCALE:GREGORIAN
BEGIN:VEVENT
DTSTART:20271026T223000Z
DTEND:20271027T000000Z
X-MICROSOFT-CDO-ALLDAYEVENT:FALSE
SUMMARY:Business After Hours Network
DESCRIPTION:Monthly Networking Event for Hispanic Chamber Members
X-ALT-DESC;FMTTYPE=text/html:<strong>Monthly Networking Event for Hispanic Chamber Members</strong>
LOCATION:Wilson House Oklahoma City University 2500 N. Blackwelder Ave\, Oklahoma City\, OK 73106
UID:e.1498.4073
SEQUENCE:3
DTSTAMP:20260423T130216Z
URL:https://business.okchispanicchamber.org/events/details/business-after-hours-network-10-26-2027-4073
END:VEVENT

END:VCALENDAR
