BEGIN:VCALENDAR
VERSION:2.0
PRODID:-//ChamberMaster//Event Calendar 2.0//EN
METHOD:PUBLISH
X-PUBLISHED-TTL:P3D
REFRESH-INTERVAL:P3D
CALSCALE:GREGORIAN
BEGIN:VEVENT
DTSTART:20210923T223000Z
DTEND:20210924T000000Z
X-MICROSOFT-CDO-ALLDAYEVENT:FALSE
SUMMARY:Business After Hours Network
DESCRIPTION:Monthly Networking Event for Hispanic Chamber Members\n\n\n\nSponsored by Chelino's
X-ALT-DESC;FMTTYPE=text/html:<strong>Monthly Networking Event for Hispanic Chamber Members<br />\n<br />\nSponsored by Chelino&#39\;s</strong>
LOCATION:Chelino's 6509 NW Expressway Okc Ok 73132
UID:e.1498.4000
SEQUENCE:3
DTSTAMP:20260425T121345Z
URL:https://business.okchispanicchamber.org/events/details/business-after-hours-network-09-26-2021-4000
END:VEVENT

END:VCALENDAR
