BEGIN:VCALENDAR
VERSION:2.0
PRODID:-//ChamberMaster//Event Calendar 2.0//EN
METHOD:PUBLISH
X-PUBLISHED-TTL:P3D
REFRESH-INTERVAL:P3D
CALSCALE:GREGORIAN
BEGIN:VEVENT
DTSTART:20270921T223000Z
DTEND:20270922T000000Z
X-MICROSOFT-CDO-ALLDAYEVENT:FALSE
SUMMARY:Business After Hours Network
DESCRIPTION:Monthly Networking Event for Hispanic Chamber Members
X-ALT-DESC;FMTTYPE=text/html:Monthly Networking Event for Hispanic Chamber Members
LOCATION:Hilton Garden Inn Quail Springs
UID:e.1498.3947
SEQUENCE:3
DTSTAMP:20260423T113840Z
URL:https://business.okchispanicchamber.org/events/details/business-after-hours-network-09-21-2027-3947
END:VEVENT

END:VCALENDAR
