BEGIN:VCALENDAR
VERSION:2.0
PRODID:-//ChamberMaster//Event Calendar 2.0//EN
METHOD:PUBLISH
X-PUBLISHED-TTL:P3D
REFRESH-INTERVAL:P3D
CALSCALE:GREGORIAN
BEGIN:VEVENT
DTSTART:20251206T000000Z
DTEND:20251206T050000Z
X-MICROSOFT-CDO-ALLDAYEVENT:FALSE
SUMMARY:Annual Christmas Gala 2025
DESCRIPTION:Join the Greater Oklahoma City Hispanic Chamber of Commerce for a memorable evening at our 25th Annual Christmas Gala   a celebration of culture\, community\, and holiday spirit.\n\nThis special milestone event will feature an elegant dinner\, an inspiring guest speaker\, and vibrant entertainment including dancers and a cultural performance that reflects the richness of our diverse heritage. Guests will also enjoy the opportunity to participate in our always-popular silent auction. It's the perfect occasion to gather with colleagues\, friends\, and fellow community members.\n\nReserve your table of 10 and be part of a night to remember as we celebrate 25 years of tradition and connection.
X-ALT-DESC;FMTTYPE=text/html:<p>Join the Greater Oklahoma City Hispanic Chamber of Commerce for a memorable evening at our 25th Annual Christmas Gala &mdash\; a celebration of culture\, community\, and holiday spirit.<br />\nThis special milestone event will feature an elegant dinner\, an inspiring guest speaker\, and vibrant entertainment including dancers and a cultural performance that reflects the richness of our diverse heritage. Guests will also enjoy&nbsp\;the opportunity to participate in our always-popular silent auction. It&rsquo\;s the perfect occasion to gather with colleagues\, friends\, and fellow community members.<br />\nReserve your table of 10 and be part of a night to remember as we celebrate 25 years of tradition and connection.</p>\n
LOCATION:Skirvin Hotel
UID:e.1498.5384
SEQUENCE:3
DTSTAMP:20260424T100405Z
URL:https://business.okchispanicchamber.org/events/details/annual-christmas-gala-2025-5384
END:VEVENT

END:VCALENDAR
